BEGIN:VCALENDAR
VERSION:2.0
PRODID:-//eventon.com NONSGML v1.0//EN
CALSCALE:GREGORIAN
METHOD:PUBLISH
BEGIN:VEVENT
UID:69e604504a7f5
DTSTAMP:20260420T104744Z
DTSTART:20250714T090000Z
DTEND:20250714T110000Z
LOCATION:Grove House (St Albans) Lavender Cres\,  Waverley Rd\,  St Albans AL3 5QX
SUMMARY:Wellbeing Sessions (Mondays)
DESCRIPTION:Join us for peaceful\,  supportive sessions focused on learning
  relaxation techniques\,  seated exercises\,  goal setting and meeting othe
 rs on similar journeys. Share experiences and concerns in a safe\,  caring 
 space led by a member of our healthcare team. Courses will go ahead when th
 ere’s enough interest to make them possible.[..]\nhttps://renniegrovepeac
 e.org/events/wellbeing-sessions-monday/
URL:https://renniegrovepeace.org/events/wellbeing-sessions-monday/
END:VEVENT
END:VCALENDAR