BEGIN:VCALENDAR
VERSION:2.0
PRODID:-//eventon.com NONSGML v1.0//EN
CALSCALE:GREGORIAN
METHOD:PUBLISH
BEGIN:VEVENT
UID:69e604cd547b6
DTSTAMP:20260420T104949Z
DTSTART:20250629T090000Z
DTEND:20250629T160000Z
LOCATION:Peace Hospice (Watford) Peace Drive\,  Watford\,  WD17 3PH
SUMMARY:Reiki (Peace Hospice)
DESCRIPTION:Reiki is a calming energy healing practice where the therapist 
 places their hands lightly on or near your body. It’s completely non-inva
 sive and deeply relaxing. Reiki can help you: Release tension Feel more emo
 tionally balanced Support your body’s natural healing This is an hour-lon
 g session available between 9:00am and 4:00pm.[..]\nhttps://renniegrovepeac
 e.org/events/reiki-fridays/
URL:https://renniegrovepeace.org/events/reiki-fridays/
END:VEVENT
END:VCALENDAR