BEGIN:VCALENDAR
VERSION:2.0
PRODID:-//eventon.com NONSGML v1.0//EN
CALSCALE:GREGORIAN
METHOD:PUBLISH
BEGIN:VEVENT
UID:69e8b77939823
DTSTAMP:20260422T115641Z
DTSTART:20260107T103000Z
DTEND:20260107T120000Z
LOCATION:Peace Hospice (Watford) Peace Drive\,  Watford\,  WD17 3PH
SUMMARY:Move and Restore
DESCRIPTION:Join us for an uplifting circuit-style class led by physiothera
 pists\,  rehab assistants\,  and volunteers! This class is all about helpin
 g you boost your activity levels\,  build strength\,  improve balance\,  an
 d increase endurance—all in a fun and supportive group setting. Whether y
 ou’re just starting out or ready to challenge yourself\,  we’ll[..]\nht
 tps://renniegrovepeace.org/events/move-and-restore-watford/
URL:https://renniegrovepeace.org/events/move-and-restore-watford/
END:VEVENT
END:VCALENDAR