BEGIN:VCALENDAR
VERSION:2.0
PRODID:-//eventon.com NONSGML v1.0//EN
CALSCALE:GREGORIAN
METHOD:PUBLISH
BEGIN:VEVENT
UID:69e9e0aa9e7e6
DTSTAMP:20260423T090442Z
DTSTART:20260416T093000Z
DTEND:20260416T103000Z
LOCATION:Grove House (St Albans) Lavender Cres\,  Waverley Rd\,  St Albans AL3 5QX
SUMMARY:Yoga Class (April to May)
DESCRIPTION:This gentle yoga class is open to all abilities &#8211; whether
  you’re a complete beginner or have some experience. Led by a qualified i
 nstructor with experience supporting those living with a life-limiting cond
 ition\,  this course focuses on: Seated postures Gentle movement Mind-body 
 connection It’s not just about exercise—it’s about feeling[..]\nhttps
 ://renniegrovepeace.org/events/yoga-class-6-week-course-4/
URL:https://renniegrovepeace.org/events/yoga-class-6-week-course-4/
END:VEVENT
END:VCALENDAR