BEGIN:VCALENDAR
VERSION:2.0
PRODID:-//eventon.com NONSGML v1.0//EN
CALSCALE:GREGORIAN
METHOD:PUBLISH
BEGIN:VEVENT
UID:69e7549457c35
DTSTAMP:20260421T104228Z
DTSTART:20260505T090000Z
DTEND:20260505T120000Z
LOCATION:Peace Hospice (Watford) Peace Drive\,  Watford\,  WD17 3PH
SUMMARY:Living Well course (May to June)
DESCRIPTION:This free 8-week course is designed to give you the confidence\
 ,  knowledge\,  and support to live well with your illness and make the mos
 t of life. With expert guest speakers and a relaxed\,  friendly atmosphere\
 ,  you’ll explore topics such as: Fatigue management Nutritional advice P
 ain management Skin care Advanced care[..]\nhttps://renniegrovepeace.org/ev
 ents/living-well-course-may-to-june/
URL:https://renniegrovepeace.org/events/living-well-course-may-to-june/
END:VEVENT
END:VCALENDAR