BEGIN:VCALENDAR
VERSION:2.0
PRODID:-//eventon.com NONSGML v1.0//EN
CALSCALE:GREGORIAN
METHOD:PUBLISH
BEGIN:VEVENT
UID:69ea0b2c37325
DTSTAMP:20260423T120604Z
DTSTART:20260415T120000Z
DTEND:20260415T140000Z
LOCATION:Grove House (St Albans) Lavender Cres\,  Waverley Rd\,  St Albans AL3 5QX
SUMMARY:Advance Care Planning (3 week course)
DESCRIPTION:Thinking about the future can be difficult\,  especially if you
 &#8217;ve been diagnosed with a progressive life-limiting illness\,  but we
 ’re here to guide and support you every step of the way. At this three-we
 ek course\,  our trained healthcare professionals will help you: Plan for a
  time when you become less well[..]\nhttps://renniegrovepeace.org/events/ad
 vance-care-planning-3-week-course/
URL:https://renniegrovepeace.org/events/advance-care-planning-3-week-course/
END:VEVENT
END:VCALENDAR