BEGIN:VCALENDAR
VERSION:2.0
PRODID:-//eventon.com NONSGML v1.0//EN
CALSCALE:GREGORIAN
METHOD:PUBLISH
BEGIN:VEVENT
UID:69e781c6b4a8d
DTSTAMP:20260421T135518Z
DTSTART:20260511T103000Z
DTEND:20260511T123000Z
LOCATION:Peace Hospice (Watford) Peace Drive\,  Watford\,  WD17 3PH
SUMMARY:Art & Wellbeing Workshop (Watford)
DESCRIPTION:Join us for a relaxing\,  creative group designed for people li
 ving with a life‑limiting illness. This gentle\,  supportive space offers
  the chance to enjoy art activities while meeting others who understand wha
 t you’re experiencing. You don’t need any artistic skill to take part\,
   just an interest in making and creating.[..]\nhttps://renniegrovepeace.or
 g/events/art-wellbeing-workshop-watford/
URL:https://renniegrovepeace.org/events/art-wellbeing-workshop-watford/
END:VEVENT
END:VCALENDAR